BEGIN:VCALENDAR
VERSION:2.0
PRODID:-//Tukios.com/
BEGIN:VEVENT
UID:d1ebb97f-1a80-4e96-96bf-6210ced9f920@www.trinityfuneralservice.net
DTSTAMP:20260420T081356Z
DTSTART:20260416
SUMMARY:Interment
DESCRIPTION:
URL:https://www.trinityfuneralservice.net/obituaries/patricia-glover-hasben
LOCATION: 234 Paramus Road  Paramus NJ 07652
GEO:40.9391164;-74.0850865
END:VEVENT
END:VCALENDAR